Package: tximeta Version: 1.26.2 Command: /home/biocbuild/R/R/bin/R CMD check --install=check:tximeta.install-out.txt --library=/home/biocbuild/R/R/site-library --no-vignettes --timings tximeta_1.26.2.tar.gz StartedAt: 2025-10-10 15:08:38 -0000 (Fri, 10 Oct 2025) EndedAt: 2025-10-10 15:16:18 -0000 (Fri, 10 Oct 2025) EllapsedTime: 459.6 seconds RetCode: 0 Status: OK CheckDir: tximeta.Rcheck Warnings: 0