Package: tximeta Version: 1.26.0 Command: /Library/Frameworks/R.framework/Resources/bin/R CMD build --keep-empty-dirs --no-resave-data tximeta StartedAt: 2025-04-21 17:56:01 -0400 (Mon, 21 Apr 2025) EndedAt: 2025-04-21 17:56:43 -0400 (Mon, 21 Apr 2025) EllapsedTime: 42.5 seconds RetCode: 0 Status: OK PackageFile: tximeta_1.26.0.tar.gz PackageFileSize: 1.333 MiB