Package: tximeta Version: 1.26.2 Command: /Library/Frameworks/R.framework/Resources/bin/R CMD INSTALL tximeta StartedAt: 2025-10-13 17:28:02 -0400 (Mon, 13 Oct 2025) EndedAt: 2025-10-13 17:28:48 -0400 (Mon, 13 Oct 2025) EllapsedTime: 46.2 seconds RetCode: 0 Status: OK