Package: tximeta Version: 1.26.2 Command: /Library/Frameworks/R.framework/Resources/bin/R CMD build --keep-empty-dirs --no-resave-data tximeta StartedAt: 2025-10-14 11:33:09 -0400 (Tue, 14 Oct 2025) EndedAt: 2025-10-14 11:35:16 -0400 (Tue, 14 Oct 2025) EllapsedTime: 126.8 seconds RetCode: 0 Status: OK PackageFile: tximeta_1.26.2.tar.gz PackageFileSize: 1.334 MiB