Package: txdbmaker Version: 1.4.2 Command: rm -rf txdbmaker.buildbin-libdir && mkdir txdbmaker.buildbin-libdir && E:\biocbuild\bbs-3.21-bioc\R\bin\R.exe CMD INSTALL --build --library=txdbmaker.buildbin-libdir txdbmaker_1.4.2.tar.gz StartedAt: 2025-08-15 10:32:27 -0400 (Fri, 15 Aug 2025) EndedAt: 2025-08-15 10:34:02 -0400 (Fri, 15 Aug 2025) EllapsedTime: 94.6 seconds RetCode: 0 Status: OK PackageFile: txdbmaker_1.4.2.zip PackageFileSize: 1.248 MiB