Package: txdbmaker Version: 1.4.2 Command: /home/biocbuild/bbs-3.21-bioc/R/bin/R CMD build --keep-empty-dirs --no-resave-data txdbmaker StartedAt: 2025-10-15 20:25:13 -0400 (Wed, 15 Oct 2025) EndedAt: 2025-10-15 20:26:37 -0400 (Wed, 15 Oct 2025) EllapsedTime: 84.1 seconds RetCode: 0 Status: OK PackageFile: txdbmaker_1.4.2.tar.gz PackageFileSize: 1010 KiB