Package: twoddpcr Version: 1.32.0 Command: chmod a+r twoddpcr -R && E:\biocbuild\bbs-3.21-bioc\R\bin\R.exe CMD build --keep-empty-dirs --no-resave-data twoddpcr StartedAt: 2025-08-14 22:50:52 -0400 (Thu, 14 Aug 2025) EndedAt: 2025-08-14 22:56:03 -0400 (Thu, 14 Aug 2025) EllapsedTime: 311.3 seconds RetCode: 0 Status: OK PackageFile: twoddpcr_1.32.0.tar.gz PackageFileSize: 2.114 MiB