Package: twoddpcr Version: 1.32.0 Command: /home/biocbuild/bbs-3.21-bioc/R/bin/R CMD INSTALL twoddpcr StartedAt: 2025-10-01 15:14:39 -0400 (Wed, 01 Oct 2025) EndedAt: 2025-10-01 15:14:50 -0400 (Wed, 01 Oct 2025) EllapsedTime: 11.0 seconds RetCode: 0 Status: OK