Package: twoddpcr Version: 1.32.0 Command: /home/biocbuild/R/R/bin/R CMD INSTALL twoddpcr StartedAt: 2025-09-29 20:24:35 -0000 (Mon, 29 Sep 2025) EndedAt: 2025-09-29 20:24:50 -0000 (Mon, 29 Sep 2025) EllapsedTime: 15.2 seconds RetCode: 0 Status: OK