Package: twoddpcr Version: 1.32.0 Command: /home/biocbuild/R/R/bin/R CMD build --keep-empty-dirs --no-resave-data twoddpcr StartedAt: 2025-09-30 06:06:15 -0000 (Tue, 30 Sep 2025) EndedAt: 2025-09-30 06:09:35 -0000 (Tue, 30 Sep 2025) EllapsedTime: 200.1 seconds RetCode: 0 Status: OK PackageFile: twoddpcr_1.32.0.tar.gz PackageFileSize: 3.724 MiB