Package: twilight Version: 1.84.0 Command: /Library/Frameworks/R.framework/Resources/bin/R CMD INSTALL twilight StartedAt: 2025-10-13 15:22:38 -0400 (Mon, 13 Oct 2025) EndedAt: 2025-10-13 15:22:57 -0400 (Mon, 13 Oct 2025) EllapsedTime: 19.2 seconds RetCode: 0 Status: OK