Package: twilight Version: 1.84.0 Command: /home/biocbuild/R/R/bin/R CMD INSTALL twilight StartedAt: 2025-09-29 20:25:04 -0000 (Mon, 29 Sep 2025) EndedAt: 2025-09-29 20:25:12 -0000 (Mon, 29 Sep 2025) EllapsedTime: 8.2 seconds RetCode: 0 Status: OK