Package: twilight Version: 1.84.0 Command: /home/biocbuild/R/R/bin/R CMD build --keep-empty-dirs --no-resave-data twilight StartedAt: 2025-09-30 06:06:06 -0000 (Tue, 30 Sep 2025) EndedAt: 2025-09-30 06:07:35 -0000 (Tue, 30 Sep 2025) EllapsedTime: 89.0 seconds RetCode: 0 Status: OK PackageFile: twilight_1.84.0.tar.gz PackageFileSize: 1.181 MiB