Package: twilight Version: 1.84.0 Command: /Library/Frameworks/R.framework/Resources/bin/R CMD build --keep-empty-dirs --no-resave-data twilight StartedAt: 2025-04-21 17:55:45 -0400 (Mon, 21 Apr 2025) EndedAt: 2025-04-21 17:56:37 -0400 (Mon, 21 Apr 2025) EllapsedTime: 52.7 seconds RetCode: 0 Status: OK PackageFile: twilight_1.84.0.tar.gz PackageFileSize: 1.195 MiB