Package: twilight Version: 1.84.0 Command: /Library/Frameworks/R.framework/Resources/bin/R CMD INSTALL twilight StartedAt: 2025-10-13 15:35:20 -0400 (Mon, 13 Oct 2025) EndedAt: 2025-10-13 15:35:26 -0400 (Mon, 13 Oct 2025) EllapsedTime: 6.7 seconds RetCode: 0 Status: OK