Package: twilight Version: 1.84.0 Command: /Library/Frameworks/R.framework/Resources/bin/R CMD build --keep-empty-dirs --no-resave-data twilight StartedAt: 2025-10-14 11:30:39 -0400 (Tue, 14 Oct 2025) EndedAt: 2025-10-14 11:32:15 -0400 (Tue, 14 Oct 2025) EllapsedTime: 96.1 seconds RetCode: 0 Status: OK PackageFile: twilight_1.84.0.tar.gz PackageFileSize: 1.195 MiB