Package: twilight Version: 1.84.0 Command: rm -rf twilight.buildbin-libdir && mkdir twilight.buildbin-libdir && /Users/biocbuild/BBS/utils/build-universal.sh twilight_1.84.0.tar.gz /Library/Frameworks/R.framework/Resources/bin/R twilight.buildbin-libdir StartedAt: 2025-10-15 20:56:33 -0400 (Wed, 15 Oct 2025) EndedAt: 2025-10-15 20:56:42 -0400 (Wed, 15 Oct 2025) EllapsedTime: 9.0 seconds RetCode: 0 Status: OK PackageFile: twilight_1.84.0.tgz PackageFileSize: 1.218 MiB