Package: tweeDEseq Version: 1.54.0 Command: /home/biocbuild/bbs-3.21-bioc/R/bin/R CMD INSTALL tweeDEseq StartedAt: 2025-10-15 15:04:52 -0400 (Wed, 15 Oct 2025) EndedAt: 2025-10-15 15:05:03 -0400 (Wed, 15 Oct 2025) EllapsedTime: 10.6 seconds RetCode: 0 Status: OK