Package: tweeDEseq Version: 1.54.0 Command: /home/biocbuild/bbs-3.21-bioc/R/bin/R CMD build --keep-empty-dirs --no-resave-data tweeDEseq StartedAt: 2025-10-15 20:24:44 -0400 (Wed, 15 Oct 2025) EndedAt: 2025-10-15 20:34:26 -0400 (Wed, 15 Oct 2025) EllapsedTime: 581.5 seconds RetCode: 0 Status: OK PackageFile: tweeDEseq_1.54.0.tar.gz PackageFileSize: 234 KiB