Package: tweeDEseq Version: 1.54.0 Command: /Library/Frameworks/R.framework/Resources/bin/R CMD check --install=check:tweeDEseq.install-out.txt --library=/Library/Frameworks/R.framework/Resources/library --no-vignettes --timings tweeDEseq_1.54.0.tar.gz StartedAt: 2025-10-15 16:09:14 -0400 (Wed, 15 Oct 2025) EndedAt: 2025-10-15 16:10:29 -0400 (Wed, 15 Oct 2025) EllapsedTime: 74.8 seconds RetCode: 0 Status: WARNINGS CheckDir: tweeDEseq.Rcheck Warnings: 1