Package: tweeDEseq Version: 1.54.0 Command: /Library/Frameworks/R.framework/Resources/bin/R CMD build --keep-empty-dirs --no-resave-data tweeDEseq StartedAt: 2025-10-14 11:30:34 -0400 (Tue, 14 Oct 2025) EndedAt: 2025-10-14 11:54:56 -0400 (Tue, 14 Oct 2025) EllapsedTime: 1461.7 seconds RetCode: 0 Status: OK PackageFile: tweeDEseq_1.54.0.tar.gz PackageFileSize: 233.3 KiB