Package: tripr Version: 1.14.0 Command: /Library/Frameworks/R.framework/Resources/bin/R CMD check --install=check:tripr.install-out.txt --library=/Library/Frameworks/R.framework/Resources/library --no-vignettes --timings tripr_1.14.0.tar.gz StartedAt: 2025-10-14 11:55:19 -0400 (Tue, 14 Oct 2025) EndedAt: 2025-10-14 12:01:13 -0400 (Tue, 14 Oct 2025) EllapsedTime: 354.2 seconds RetCode: 0 Status: WARNINGS CheckDir: tripr.Rcheck Warnings: 1