Package: tripr Version: 1.14.0 Command: /home/biocbuild/R/R/bin/R CMD INSTALL tripr StartedAt: 2025-10-13 20:21:06 -0000 (Mon, 13 Oct 2025) EndedAt: 2025-10-13 20:22:12 -0000 (Mon, 13 Oct 2025) EllapsedTime: 65.9 seconds RetCode: 0 Status: OK