Package: tripr Version: 1.14.0 Command: /Library/Frameworks/R.framework/Resources/bin/R CMD INSTALL tripr StartedAt: 2025-10-13 15:27:55 -0400 (Mon, 13 Oct 2025) EndedAt: 2025-10-13 15:28:45 -0400 (Mon, 13 Oct 2025) EllapsedTime: 50.0 seconds RetCode: 0 Status: OK