Package: tripr Version: 1.14.0 Command: /Library/Frameworks/R.framework/Resources/bin/R CMD check --install=check:tripr.install-out.txt --library=/Library/Frameworks/R.framework/Resources/library --no-vignettes --timings tripr_1.14.0.tar.gz StartedAt: 2025-10-15 16:03:45 -0400 (Wed, 15 Oct 2025) EndedAt: 2025-10-15 16:06:53 -0400 (Wed, 15 Oct 2025) EllapsedTime: 188.4 seconds RetCode: 0 Status: WARNINGS CheckDir: tripr.Rcheck Warnings: 1