Package: tripr Version: 1.14.0 Command: /Library/Frameworks/R.framework/Resources/bin/R CMD build --keep-empty-dirs --no-resave-data tripr StartedAt: 2025-10-14 11:26:59 -0400 (Tue, 14 Oct 2025) EndedAt: 2025-10-14 11:28:11 -0400 (Tue, 14 Oct 2025) EllapsedTime: 72.0 seconds RetCode: 0 Status: OK PackageFile: tripr_1.14.0.tar.gz PackageFileSize: 2.939 MiB