Package: triplex Version: 1.48.0 Command: /home/biocbuild/R/R/bin/R CMD INSTALL triplex StartedAt: 2025-10-13 20:52:16 -0000 (Mon, 13 Oct 2025) EndedAt: 2025-10-13 20:52:38 -0000 (Mon, 13 Oct 2025) EllapsedTime: 22.4 seconds RetCode: 0 Status: OK