Package: triplex Version: 1.48.0 Command: /home/biocbuild/R/R/bin/R CMD check --install=check:triplex.install-out.txt --library=/home/biocbuild/R/R/site-library --no-vignettes --timings triplex_1.48.0.tar.gz StartedAt: 2025-10-10 15:03:44 -0000 (Fri, 10 Oct 2025) EndedAt: 2025-10-10 15:05:28 -0000 (Fri, 10 Oct 2025) EllapsedTime: 104.1 seconds RetCode: 0 Status: WARNINGS CheckDir: triplex.Rcheck Warnings: 2