Package: triplex Version: 1.48.0 Command: /Library/Frameworks/R.framework/Resources/bin/R CMD check --install=check:triplex.install-out.txt --library=/Library/Frameworks/R.framework/Resources/library --no-vignettes --timings triplex_1.48.0.tar.gz StartedAt: 2025-04-21 22:12:28 -0400 (Mon, 21 Apr 2025) EndedAt: 2025-04-21 22:13:02 -0400 (Mon, 21 Apr 2025) EllapsedTime: 34.4 seconds RetCode: 0 Status: WARNINGS CheckDir: triplex.Rcheck Warnings: 2