Package: trio Version: 3.46.0 Command: /Library/Frameworks/R.framework/Resources/bin/R CMD check --install=check:trio.install-out.txt --library=/Library/Frameworks/R.framework/Resources/library --no-vignettes --timings trio_3.46.0.tar.gz StartedAt: 2025-04-22 00:12:13 -0400 (Tue, 22 Apr 2025) EndedAt: 2025-04-22 00:15:16 -0400 (Tue, 22 Apr 2025) EllapsedTime: 183.2 seconds RetCode: 0 Status: OK CheckDir: trio.Rcheck Warnings: 0