Package: tricycle Version: 1.16.0 Command: chmod a+r tricycle -R && E:\biocbuild\bbs-3.21-bioc\R\bin\R.exe CMD build --keep-empty-dirs --no-resave-data tricycle StartedAt: 2025-08-14 22:49:05 -0400 (Thu, 14 Aug 2025) EndedAt: 2025-08-14 22:50:34 -0400 (Thu, 14 Aug 2025) EllapsedTime: 88.2 seconds RetCode: 0 Status: OK PackageFile: tricycle_1.16.0.tar.gz PackageFileSize: 3.646 MiB