Package: tricycle Version: 1.16.0 Command: rm -rf tricycle.buildbin-libdir && mkdir tricycle.buildbin-libdir && E:\biocbuild\bbs-3.21-bioc\R\bin\R.exe CMD INSTALL --build --library=tricycle.buildbin-libdir tricycle_1.16.0.tar.gz StartedAt: 2025-08-15 10:31:36 -0400 (Fri, 15 Aug 2025) EndedAt: 2025-08-15 10:32:33 -0400 (Fri, 15 Aug 2025) EllapsedTime: 56.6 seconds RetCode: 0 Status: OK PackageFile: tricycle_1.16.0.zip PackageFileSize: 3.712 MiB