Package: tricycle Version: 1.16.0 Command: /home/biocbuild/bbs-3.21-bioc/R/bin/R CMD check --install=check:tricycle.install-out.txt --library=/home/biocbuild/bbs-3.21-bioc/R/site-library --timings tricycle_1.16.0.tar.gz StartedAt: 2025-10-16 04:35:27 -0400 (Thu, 16 Oct 2025) EndedAt: 2025-10-16 04:40:00 -0400 (Thu, 16 Oct 2025) EllapsedTime: 273.4 seconds RetCode: 0 Status: WARNINGS CheckDir: tricycle.Rcheck Warnings: 1