Package: tricycle Version: 1.16.0 Command: /Library/Frameworks/R.framework/Resources/bin/R CMD INSTALL tricycle StartedAt: 2025-10-13 16:41:14 -0400 (Mon, 13 Oct 2025) EndedAt: 2025-10-13 16:42:28 -0400 (Mon, 13 Oct 2025) EllapsedTime: 74.1 seconds RetCode: 0 Status: OK