Package: tricycle Version: 1.16.0 Command: /Library/Frameworks/R.framework/Resources/bin/R CMD build --keep-empty-dirs --no-resave-data tricycle StartedAt: 2025-10-13 23:21:56 -0400 (Mon, 13 Oct 2025) EndedAt: 2025-10-13 23:24:22 -0400 (Mon, 13 Oct 2025) EllapsedTime: 146.3 seconds RetCode: 0 Status: OK PackageFile: tricycle_1.16.0.tar.gz PackageFileSize: 4.137 MiB