Package: tricycle Version: 1.16.0 Command: /home/biocbuild/R/R/bin/R CMD INSTALL tricycle StartedAt: 2025-10-13 21:14:23 -0000 (Mon, 13 Oct 2025) EndedAt: 2025-10-13 21:15:12 -0000 (Mon, 13 Oct 2025) EllapsedTime: 49.0 seconds RetCode: 0 Status: OK