Package: tricycle Version: 1.16.0 Command: /Library/Frameworks/R.framework/Resources/bin/R CMD check --install=check:tricycle.install-out.txt --library=/Library/Frameworks/R.framework/Resources/library --no-vignettes --timings tricycle_1.16.0.tar.gz StartedAt: 2025-10-15 16:01:04 -0400 (Wed, 15 Oct 2025) EndedAt: 2025-10-15 16:06:15 -0400 (Wed, 15 Oct 2025) EllapsedTime: 310.9 seconds RetCode: 0 Status: WARNINGS CheckDir: tricycle.Rcheck Warnings: 1