Package: treekoR Version: 1.16.0 Command: /Library/Frameworks/R.framework/Resources/bin/R CMD build --keep-empty-dirs --no-resave-data treekoR StartedAt: 2025-10-14 11:23:35 -0400 (Tue, 14 Oct 2025) EndedAt: 2025-10-14 11:25:24 -0400 (Tue, 14 Oct 2025) EllapsedTime: 108.8 seconds RetCode: 0 Status: OK PackageFile: treekoR_1.16.0.tar.gz PackageFileSize: 1.708 MiB