Package: treekoR Version: 1.16.0 Command: rm -rf treekoR.buildbin-libdir && mkdir treekoR.buildbin-libdir && /Users/biocbuild/BBS/utils/build-universal.sh treekoR_1.16.0.tar.gz /Library/Frameworks/R.framework/Resources/bin/R treekoR.buildbin-libdir StartedAt: 2025-10-15 20:54:43 -0400 (Wed, 15 Oct 2025) EndedAt: 2025-10-15 20:55:27 -0400 (Wed, 15 Oct 2025) EllapsedTime: 44.7 seconds RetCode: 0 Status: OK PackageFile: treekoR_1.16.0.tgz PackageFileSize: 1.781 MiB