Package: treeclimbR Version: 1.4.0 Command: /Library/Frameworks/R.framework/Resources/bin/R CMD check --install=check:treeclimbR.install-out.txt --library=/Library/Frameworks/R.framework/Resources/library --no-vignettes --timings treeclimbR_1.4.0.tar.gz StartedAt: 2025-10-14 11:51:57 -0400 (Tue, 14 Oct 2025) EndedAt: 2025-10-14 12:05:22 -0400 (Tue, 14 Oct 2025) EllapsedTime: 804.9 seconds RetCode: 0 Status: OK CheckDir: treeclimbR.Rcheck Warnings: 0