Package: treeclimbR Version: 1.4.0 Command: /home/biocbuild/R/R/bin/R CMD INSTALL treeclimbR StartedAt: 2025-10-13 20:46:01 -0000 (Mon, 13 Oct 2025) EndedAt: 2025-10-13 20:46:55 -0000 (Mon, 13 Oct 2025) EllapsedTime: 54.4 seconds RetCode: 0 Status: OK