Package: treeclimbR Version: 1.4.0 Command: /home/biocbuild/R/R/bin/R CMD build --keep-empty-dirs --no-resave-data treeclimbR StartedAt: 2025-10-14 05:30:00 -0000 (Tue, 14 Oct 2025) EndedAt: 2025-10-14 05:31:34 -0000 (Tue, 14 Oct 2025) EllapsedTime: 94.1 seconds RetCode: 0 Status: OK PackageFile: treeclimbR_1.4.0.tar.gz PackageFileSize: 695.3 KiB