Package: treeclimbR Version: 1.4.0 Command: /Library/Frameworks/R.framework/Resources/bin/R CMD check --install=check:treeclimbR.install-out.txt --library=/Library/Frameworks/R.framework/Resources/library --no-vignettes --timings treeclimbR_1.4.0.tar.gz StartedAt: 2025-10-15 15:54:15 -0400 (Wed, 15 Oct 2025) EndedAt: 2025-10-15 16:01:04 -0400 (Wed, 15 Oct 2025) EllapsedTime: 409.2 seconds RetCode: 0 Status: OK CheckDir: treeclimbR.Rcheck Warnings: 0