Package: traviz Version: 1.14.0 Command: chmod a+r traviz -R && E:\biocbuild\bbs-3.21-bioc\R\bin\R.exe CMD build --keep-empty-dirs --no-resave-data traviz StartedAt: 2025-08-14 22:48:16 -0400 (Thu, 14 Aug 2025) EndedAt: 2025-08-14 22:49:29 -0400 (Thu, 14 Aug 2025) EllapsedTime: 73.0 seconds RetCode: 0 Status: OK PackageFile: traviz_1.14.0.tar.gz PackageFileSize: 1.931 MiB