Package: traseR Version: 1.38.0 Command: /Library/Frameworks/R.framework/Resources/bin/R CMD check --install=check:traseR.install-out.txt --library=/Library/Frameworks/R.framework/Resources/library --no-vignettes --timings traseR_1.38.0.tar.gz StartedAt: 2025-04-21 22:10:44 -0400 (Mon, 21 Apr 2025) EndedAt: 2025-04-21 22:12:26 -0400 (Mon, 21 Apr 2025) EllapsedTime: 101.2 seconds RetCode: 0 Status: OK CheckDir: traseR.Rcheck Warnings: 0