Package: traseR Version: 1.38.0 Command: rm -rf traseR.buildbin-libdir && mkdir traseR.buildbin-libdir && /Users/biocbuild/BBS/utils/build-universal.sh traseR_1.38.0.tar.gz /Library/Frameworks/R.framework/Resources/bin/R traseR.buildbin-libdir StartedAt: 2025-04-21 22:55:43 -0400 (Mon, 21 Apr 2025) EndedAt: 2025-04-21 22:55:58 -0400 (Mon, 21 Apr 2025) EllapsedTime: 14.3 seconds RetCode: 0 Status: OK PackageFile: traseR_1.38.0.tgz PackageFileSize: 6.291 MiB