Package: traseR Version: 1.38.0 Command: /Library/Frameworks/R.framework/Resources/bin/R CMD build --keep-empty-dirs --no-resave-data traseR StartedAt: 2025-10-14 11:21:47 -0400 (Tue, 14 Oct 2025) EndedAt: 2025-10-14 11:22:55 -0400 (Tue, 14 Oct 2025) EllapsedTime: 68.3 seconds RetCode: 0 Status: OK PackageFile: traseR_1.38.0.tar.gz PackageFileSize: 6.221 MiB