Package: transomics2cytoscape Version: 1.18.0 Command: /Library/Frameworks/R.framework/Resources/bin/R CMD check --install=check:transomics2cytoscape.install-out.txt --library=/Library/Frameworks/R.framework/Resources/library --no-vignettes --timings transomics2cytoscape_1.18.0.tar.gz StartedAt: 2025-10-14 11:49:43 -0400 (Tue, 14 Oct 2025) EndedAt: 2025-10-14 11:51:07 -0400 (Tue, 14 Oct 2025) EllapsedTime: 83.8 seconds RetCode: 0 Status: OK CheckDir: transomics2cytoscape.Rcheck Warnings: 0