Package: transomics2cytoscape Version: 1.18.0 Command: /Library/Frameworks/R.framework/Resources/bin/R CMD INSTALL transomics2cytoscape StartedAt: 2025-10-13 15:46:38 -0400 (Mon, 13 Oct 2025) EndedAt: 2025-10-13 15:46:42 -0400 (Mon, 13 Oct 2025) EllapsedTime: 3.5 seconds RetCode: 0 Status: OK