Package: transomics2cytoscape Version: 1.18.0 Command: /Library/Frameworks/R.framework/Resources/bin/R CMD build --keep-empty-dirs --no-resave-data transomics2cytoscape StartedAt: 2025-10-14 11:21:33 -0400 (Tue, 14 Oct 2025) EndedAt: 2025-10-14 11:21:47 -0400 (Tue, 14 Oct 2025) EllapsedTime: 13.7 seconds RetCode: 0 Status: OK PackageFile: transomics2cytoscape_1.18.0.tar.gz PackageFileSize: 11.82 MiB